Workbook

Sheet 入力方法
A1: 金沢市不妊治療費助成 診療内容等証明書 入力方法
A3: ・令和8年10月1日以降の治療について入力してください。これより前の治療については別様式
A4: （以前の様式）です。
A5: ・各シートの色がついているところに入力してください。色のついていない欄は、自動で転記
A6: されます。（夫＝薄青、妻＝薄赤、夫婦共通＝黄 で着色してあります。）
A7: 紙に直接記入する場合は、色のついていない部分も記入してください。
A8: ・一般不妊治療、生殖補助医療、先進医療それぞれの金額には、それに該当する治療に要した
A9: 金額のみ入力してください。該当する治療を実施していない場合は空欄で構いません。
A10: ・院外処方が「有」の場合は、院外処方に要した費用も対象となります。院外処方分も申請す
A11: る場合は、薬局が発行する「金沢市 不妊治療費助成 診療内容等証明書」の添付が必要です。
A12: ・一般不妊治療助成は、治療を開始した月の初日から２年間が対象です。期間は夫婦で2年間
A13: です。（その他不妊治療費の助成期間が引き継がれます。）
... A41: ⑧院長印または医療機関名等のゴム印を押印

Sheet １妻・明細
B2: 診療報酬明細書【妻】 | I2: （ふりがな） | Q2: 生年月日
I3: 受診者氏名
B5: 診療年月 | E5: 合計 （自動計算） | K5: 内訳
K6: 一般不妊治療 | Q6: 生殖補助医療
B7: 年 | C7: 月 | D7: 限度額 区分 | E7: 保険適用 | I7: 保険適用外 | K7: 保険適用 | O7: 保険適用外 | Q7: 保険適用 | U7: 保険適用外
E8: 保険点数 | G8: 自己負担額 | I8: 自己負担額 | K8: 保険点数 | M8: 自己負担額 | O8: 自己負担額 | Q8: 保険点数 | S8: 自己負担額 | U8: 自己負担額
A9: 1 | E9: =IF(K9+Q9=0," ",K9+Q9) | F9: 点 | G9: =IF(+M9+S9=0," ",M9+S9) | H9: 円 | I9: =IF(O9+U9=0," ",O9+U9) | J9: 円 | L9: 点 | N9: 円 | P9: 円 | R9: 点 | T9: 円 | V9: 円
A10: 2 | E10: =IF(K10+Q10=0," ",K10+Q10) | F10: 点 | G10: =IF(+M10+S10=0," ",M10+S10) | H10: 円 | I10: =IF(O10+U10=0," ",O10+U10) | J10: 円 | L10: 点 | N10: 円 | P10: 円 | R10: 点 | T10: 円 | V10: 円
A11: 3 | E11: =IF(K11+Q11=0," ",K11+Q11) | F11: 点 | G11: =IF(+M11+S11=0," ",M11+S11) | H11: 円 | I11: =IF(O11+U11=0," ",O11+U11) | J11: 円 | L11: 点 | N11: 円 | P11: 円 | R11: 点 | T11: 円 | V11: 円
A12: 4 | E12: =IF(K12+Q12=0," ",K12+Q12) | F12: 点 | G12: =IF(+M12+S12=0," ",M12+S12) | H12: 円 | I12: =IF(O12+U12=0," ",O12+U12) | J12: 円 | L12: 点 | N12: 円 | P12: 円 | R12: 点 | T12: 円 | V12: 円
A13: 5 | E13: =IF(K13+Q13=0," ",K13+Q13) | F13: 点 | G13: =IF(+M13+S13=0," ",M13+S13) | H13: 円 | I13: =IF(O13+U13=0," ",O13+U13) | J13: 円 | L13: 点 | N13: 円 | P13: 円 | R13: 点 | T13: 円 | V13: 円
A14: 6 | E14: =IF(K14+Q14=0," ",K14+Q14) | F14: 点 | G14: =IF(+M14+S14=0," ",M14+S14) | H14: 円 | I14: =IF(O14+U14=0," ",O14+U14) | J14: 円 | L14: 点 | N14: 円 | P14: 円 | R14: 点 | T14: 円 | V14: 円
A15: 7 | E15: =IF(K15+Q15=0," ",K15+Q15) | F15: 点 | G15: =IF(+M15+S15=0," ",M15+S15) | H15: 円 | I15: =IF(O15+U15=0," ",O15+U15) | J15: 円 | L15: 点 | N15: 円 | P15: 円 | R15: 点 | T15: 円 | V15: 円
A16: 8 | E16: =IF(K16+Q16=0," ",K16+Q16) | F16: 点 | G16: =IF(+M16+S16=0," ",M16+S16) | H16: 円 | I16: =IF(O16+U16=0," ",O16+U16) | J16: 円 | L16: 点 | N16: 円 | P16: 円 | R16: 点 | T16: 円 | V16: 円
A17: 9 | E17: =IF(K17+Q17=0," ",K17+Q17) | F17: 点 | G17: =IF(+M17+S17=0," ",M17+S17) | H17: 円 | I17: =IF(O17+U17=0," ",O17+U17) | J17: 円 | L17: 点 | N17: 円 | P17: 円 | R17: 点 | T17: 円 | V17: 円
A18: 10 | E18: =IF(K18+Q18=0," ",K18+Q18) | F18: 点 | G18: =IF(+M18+S18=0," ",M18+S18) | H18: 円 | I18: =IF(O18+U18=0," ",O18+U18) | J18: 円 | L18: 点 | N18: 円 | P18: 円 | R18: 点 | T18: 円 | V18: 円
A19: 11 | E19: =IF(K19+Q19=0," ",K19+Q19) | F19: 点 | G19: =IF(+M19+S19=0," ",M19+S19) | H19: 円 | I19: =IF(O19+U19=0," ",O19+U19) | J19: 円 | L19: 点 | N19: 円 | P19: 円 | R19: 点 | T19: 円 | V19: 円
A20: 12 | E20: =IF(K20+Q20=0," ",K20+Q20) | F20: 点 | G20: =IF(+M20+S20=0," ",M20+S20) | H20: 円 | I20: =IF(O20+U20=0," ",O20+U20) | J20: 円 | L20: 点 | N20: 円 | P20: 円 | R20: 点 | T20: 円 | V20: 円
... A32: 24 | E32: =IF(K32+Q32=0," ",K32+Q32) | F32: 点 | G32: =IF(+M32+S32=0," ",M32+S32) | H32: 円 | I32: =IF(O32+U32=0," ",O32+U32) | J32: 円 | L32: 点 | N32: 円 | P32: 円 | R32: 点 | T32: 円 | V32: 円
B33: 合計 | E33: =IF(+K33+Q33=0," ",K33+Q33) | F33: 点 | G33: =IF(+M33+S33=0," ",M33+S33) | H33: 円 | I33: =IF(O33+U33=0," ",O33+U33) | J33: 円 | K33: =SUM(K9:K32) -> 0 | L33: 点 | M33: =SUM(M9:M32) -> 0 | N33: 円 | O33: =SUM(O9:O32) -> 0 | P33: 円 | Q33: =SUM(Q9:Q32) -> 0 | R33: 点 | S33: =SUM(S9:S32) -> 0 | T33: 円 | U33: =SUM(U9:U32) -> 0 | V33: 円

Sheet ２夫・明細
B2: 診療報酬明細書【夫】 | I2: （ふりがな） | Q2: 生年月日
I3: 受診者氏名
B5: 診療年月 | E5: 合計 （自動計算） | K5: 内訳
K6: 一般不妊治療 | Q6: 生殖補助医療
B7: 年 | C7: 月 | D7: 限度額 区分 | E7: 保険適用 | I7: 保険適用外 | K7: 保険適用 | O7: 保険適用外 | Q7: 保険適用 | U7: 保険適用外
E8: 保険点数 | G8: 自己負担額 | I8: 自己負担額 | K8: 保険点数 | M8: 自己負担額 | O8: 自己負担額 | Q8: 保険点数 | S8: 自己負担額 | U8: 自己負担額
A9: 1 | E9: =IF(K9+Q9=0," ",K9+Q9) | F9: 点 | G9: =IF(M9+S9=0," ",M9+S9) | H9: 円 | I9: =IF(O9+U9=0," ",O9+U9) | J9: 円 | L9: 点 | N9: 円 | P9: 円 | R9: 点 | T9: 円 | V9: 円
A10: 2 | E10: =IF(K10+Q10=0," ",K10+Q10) | F10: 点 | G10: =IF(M10+S10=0," ",M10+S10) | H10: 円 | I10: =IF(O10+U10=0," ",O10+U10) | J10: 円 | L10: 点 | N10: 円 | P10: 円 | R10: 点 | T10: 円 | V10: 円
A11: 3 | E11: =IF(K11+Q11=0," ",K11+Q11) | F11: 点 | G11: =IF(M11+S11=0," ",M11+S11) | H11: 円 | I11: =IF(O11+U11=0," ",O11+U11) | J11: 円 | L11: 点 | N11: 円 | P11: 円 | R11: 点 | T11: 円 | V11: 円
A12: 4 | E12: =IF(K12+Q12=0," ",K12+Q12) | F12: 点 | G12: =IF(M12+S12=0," ",M12+S12) | H12: 円 | I12: =IF(O12+U12=0," ",O12+U12) | J12: 円 | L12: 点 | N12: 円 | P12: 円 | R12: 点 | T12: 円 | V12: 円
A13: 5 | E13: =IF(K13+Q13=0," ",K13+Q13) | F13: 点 | G13: =IF(M13+S13=0," ",M13+S13) | H13: 円 | I13: =IF(O13+U13=0," ",O13+U13) | J13: 円 | L13: 点 | N13: 円 | P13: 円 | R13: 点 | T13: 円 | V13: 円
A14: 6 | E14: =IF(K14+Q14=0," ",K14+Q14) | F14: 点 | G14: =IF(M14+S14=0," ",M14+S14) | H14: 円 | I14: =IF(O14+U14=0," ",O14+U14) | J14: 円 | L14: 点 | N14: 円 | P14: 円 | R14: 点 | T14: 円 | V14: 円
A15: 7 | E15: =IF(K15+Q15=0," ",K15+Q15) | F15: 点 | G15: =IF(M15+S15=0," ",M15+S15) | H15: 円 | I15: =IF(O15+U15=0," ",O15+U15) | J15: 円 | L15: 点 | N15: 円 | P15: 円 | R15: 点 | T15: 円 | V15: 円
A16: 8 | E16: =IF(K16+Q16=0," ",K16+Q16) | F16: 点 | G16: =IF(M16+S16=0," ",M16+S16) | H16: 円 | I16: =IF(O16+U16=0," ",O16+U16) | J16: 円 | L16: 点 | N16: 円 | P16: 円 | R16: 点 | T16: 円 | V16: 円
A17: 9 | E17: =IF(K17+Q17=0," ",K17+Q17) | F17: 点 | G17: =IF(M17+S17=0," ",M17+S17) | H17: 円 | I17: =IF(O17+U17=0," ",O17+U17) | J17: 円 | L17: 点 | N17: 円 | P17: 円 | R17: 点 | T17: 円 | V17: 円
A18: 10 | E18: =IF(K18+Q18=0," ",K18+Q18) | F18: 点 | G18: =IF(M18+S18=0," ",M18+S18) | H18: 円 | I18: =IF(O18+U18=0," ",O18+U18) | J18: 円 | L18: 点 | N18: 円 | P18: 円 | R18: 点 | T18: 円 | V18: 円
A19: 11 | E19: =IF(K19+Q19=0," ",K19+Q19) | F19: 点 | G19: =IF(M19+S19=0," ",M19+S19) | H19: 円 | I19: =IF(O19+U19=0," ",O19+U19) | J19: 円 | L19: 点 | N19: 円 | P19: 円 | R19: 点 | T19: 円 | V19: 円
A20: 12 | E20: =IF(K20+Q20=0," ",K20+Q20) | F20: 点 | G20: =IF(M20+S20=0," ",M20+S20) | H20: 円 | I20: =IF(O20+U20=0," ",O20+U20) | J20: 円 | L20: 点 | N20: 円 | P20: 円 | R20: 点 | T20: 円 | V20: 円
... A32: 24 | E32: =IF(K32+Q32=0," ",K32+Q32) | F32: 点 | G32: =IF(M32+S32=0," ",M32+S32) | H32: 円 | I32: =IF(O32+U32=0," ",O32+U32) | J32: 円 | L32: 点 | N32: 円 | P32: 円 | R32: 点 | T32: 円 | V32: 円
B33: 合計 | E33: =IF(+K33+Q33=0," ",K33+Q33) | F33: 点 | G33: =IF(+M33+S33=0," ",M33+S33) | H33: 円 | I33: =IF(O33+U33=0," ",O33+U33) | J33: 円 | K33: =SUM(K9:K32) -> 0 | L33: 点 | M33: =SUM(M9:M32) -> 0 | N33: 円 | O33: =SUM(O9:O32) -> 0 | P33: 円 | Q33: =SUM(Q9:Q32) -> 0 | R33: 点 | S33: =SUM(S9:S32) -> 0 | T33: 円 | U33: =SUM(U9:U32) -> 0 | V33: 円

Sheet ３妻・先進医療明細
B2: 先進医療明細書【妻】 | F2: （ふりがな） | G2: =IF('１妻・明細'!K2=0," ",'１妻・明細'!K2) | H2: 生年月日
F3: 受診者氏名 | G3: =IF('１妻・明細'!K3=0," ",'１妻・明細'!K3)
B5: 回目 | C5: 治療期間 | D5: 実施日 | E5: 医療技術名 | H5: 金額 | J5: 合計 （自動計算）
B6: 1 | I6: 円 | J6: =IF(SUM(H6:H10)=0," ",SUM(H6:H10)) | K6: 円
I7: 円
C8: ～ | I8: 円
I9: 円
I10: 円
B11: 2 | I11: 円 | J11: =IF(SUM(H11:H15)=0," ",SUM(H11:H15)) | K11: 円
I12: 円
C13: ～ | I13: 円
I14: 円
I15: 円
B16: 3 | I16: 円 | J16: =IF(SUM(H16:H20)=0," ",SUM(H16:H20)) | K16: 円
I17: 円
C18: ～ | I18: 円
I19: 円
I20: 円
B21: 4 | I21: 円 | J21: =IF(SUM(H21:H25)=0," ",SUM(H21:H25)) | K21: 円
I22: 円
C23: ～ | I23: 円
I24: 円
I25: 円
B26: 5 | I26: 円 | J26: =IF(SUM(H26:H30)=0," ",SUM(H26:H30)) | K26: 円
I27: 円
C28: ～ | I28: 円
I29: 円
I30: 円
B31: 6 | I31: 円 | J31: =IF(SUM(H31:H35)=0," ",SUM(H31:H35)) | K31: 円
I32: 円
C33: ～ | I33: 円
I34: 円
I35: 円

Sheet ４夫・先進医療明細
B2: 先進医療明細書【夫】 | F2: （ふりがな） | G2: =IF('２夫・明細'!K2=0," ",'２夫・明細'!K2) | H2: 生年月日 | I2: =IF('２夫・明細'!S2=0," ",'２夫・明細'!S2)
F3: 受診者氏名 | G3: =IF('２夫・明細'!K3=0," ",'２夫・明細'!K3)
B5: 回目 | C5: 治療期間 | D5: 実施日 | E5: 医療技術名 | H5: 金額 | J5: 合計 （自動計算）
B6: 1 | C6: =IF('３妻・先進医療明細'!C6=0," ",'３妻・先進医療明細'!C6) | I6: 円 | J6: =IF(SUM(H6:H10)=0," ",SUM(H6:H10)) | K6: 円
I7: 円
C8: ～ | I8: 円
C9: =IF('３妻・先進医療明細'!C9=0," ",'３妻・先進医療明細'!C9) | I9: 円
I10: 円
B11: 2 | C11: =IF('３妻・先進医療明細'!C11=0," ",'３妻・先進医療明細'!C11) | I11: 円 | J11: =IF(SUM(H11:H15)=0," ",SUM(H11:H15)) | K11: 円
I12: 円
C13: ～ | I13: 円
C14: =IF('３妻・先進医療明細'!C14=0," ",'３妻・先進医療明細'!C14) | I14: 円
I15: 円
B16: 3 | C16: =IF('３妻・先進医療明細'!C16=0," ",'３妻・先進医療明細'!C16) | I16: 円 | J16: =IF(SUM(H16:H20)=0," ",SUM(H16:H20)) | K16: 円
I17: 円
C18: ～ | I18: 円
C19: =IF('３妻・先進医療明細'!C19=0," ",'３妻・先進医療明細'!C19) | I19: 円
I20: 円
B21: 4 | C21: =IF('３妻・先進医療明細'!C21=0," ",'３妻・先進医療明細'!C21) | I21: 円 | J21: =IF(SUM(H21:H25)=0," ",SUM(H21:H25)) | K21: 円
I22: 円
C23: ～ | I23: 円
C24: =IF('３妻・先進医療明細'!C24=0," ",'３妻・先進医療明細'!C24) | I24: 円
I25: 円
B26: 5 | C26: =IF('３妻・先進医療明細'!C26=0," ",'３妻・先進医療明細'!C26) | I26: 円 | J26: =IF(SUM(H26:H30)=0," ",SUM(H26:H30)) | K26: 円
I27: 円
C28: ～ | I28: 円
C29: =IF('３妻・先進医療明細'!C29=0," ",'３妻・先進医療明細'!C29) | I29: 円
I30: 円
B31: 6 | C31: =IF('３妻・先進医療明細'!C31=0," ",'３妻・先進医療明細'!C31) | I31: 円 | J31: =IF(SUM(H31:H35)=0," ",SUM(H31:H35)) | K31: 円
I32: 円
C33: ～ | I33: 円
C34: =IF('３妻・先進医療明細'!C34=0," ",'３妻・先進医療明細'!C34) | I34: 円
I35: 円

Sheet ５証明書本文
A1: 金沢市 不妊治療費助成 診療内容等証明書
T2: 年 月 日
B3: （宛先）金沢市長
L4: 医療機関等
M5: 住所
M6: 医療機関名
M7: 代表者名 | Q7: (記名押印又はゴム印)
B8: 次のとおり不妊治療を実施し、本人負担額を領収したことを証明します。
A9: １．受診者氏名等 ※夫・妻それぞれの明細（別紙）の添付が必要です
G10: 夫 | Q10: 妻
B11: 氏名 | G11: =IF('２夫・明細'!K2=0," ",'２夫・明細'!K2) | Q11: =IF(+'１妻・明細'!K2=0," ",'１妻・明細'!K2)
G12: =IF('２夫・明細'!K3=0," ",'２夫・明細'!K3) | Q12: =IF(+'１妻・明細'!K3=0," ",'１妻・明細'!K3)
B13: 生年月日 | G13: =IF('２夫・明細'!S2=0," ",'２夫・明細'!S2) | Q13: =IF('１妻・明細'!S2=0," ",'１妻・明細'!S2)
B14: 現在の状況 | G14: 妊娠 治療継続 治療中断 治療終了 その他（ ）
A16: ２．不妊治療内訳
A17: （１）一般不妊治療(体外受精・顕微授精以外の不妊治療)
B18: 夫 | C18: 妻 | D18: 医療技術名 | K18: 夫 | L18: 妻 | M18: 医療技術名 | S18: 夫 | T18: 妻 | U18: 医療技術名
D19: タイミング療法（不妊相談） | M19: 薬物療法（内服・注射） | U19: 腹腔（子宮）鏡手術
D20: 人工授精
D21: その他の手術（ ）
D22: 検査（ ）
D23: その他（ ）
B24: 夫+妻保険診療計（明細から自動転記） | J24: =IF('１妻・明細'!M33+'２夫・明細'!M33=0," ",'１妻・明細'!M33+'２夫・明細'!M33) | M24: 円 | N24: 夫+妻保険診療外計（明細から自動転記） | V24: =IF('１妻・明細'!O33+'２夫・明細'!O33=0," ",'１妻・明細'!O33+'２夫・明細'!O33) | Z24: 円
B25: 院外処方の有無 | I25: 夫 あり なし | R25: 妻 あり なし
A27: （２）生殖補助医療(体外受精・顕微授精)
C28: 当医療機関は、生殖補助医療管理料の施設基準に係る届出を行っている医療機関である。
B29: 不妊治療開始時の妻の年齢（健康保険の適用回数を判定する年齢と同じ） | Y29: 歳
F31: 治療期間 | Q31: 夫・自己負担額 | V31: 妻・自己負担額
B32: 保険適用 | C32: １回目 | K32: ～ | U32: 円 | Z32: 円
C33: 胚移植 | E33: あり なし | J33: 実施済胚移植 | P33: 回
C34: ２回目 | K34: ～ | U34: 円 | Z34: 円
C35: 胚移植 | E35: あり なし | J35: 実施済胚移植 | P35: 回
C36: ３回目 | K36: ～ | U36: 円 | Z36: 円
C37: 胚移植 | E37: あり なし | J37: 実施済胚移植 | P37: 回
C38: ４回目 | K38: ～ | U38: 円 | Z38: 円
C39: 胚移植 | E39: あり なし | J39: 実施済胚移植 | P39: 回
C40: ５回目 | K40: ～ | U40: 円 | Z40: 円
C41: 胚移植 | E41: あり なし | J41: 実施済胚移植 | P41: 回
C42: ６回目 | K42: ～ | U42: 円 | Z42: 円
C43: 胚移植 | E43: あり なし | J43: 実施済胚移植 | P43: 回
...
